Package: ACE Version: 1.28.0 Command: /Library/Frameworks/R.framework/Resources/bin/R CMD INSTALL ACE StartedAt: 2025-11-03 15:23:59 -0500 (Mon, 03 Nov 2025) EndedAt: 2025-11-03 15:24:26 -0500 (Mon, 03 Nov 2025) EllapsedTime: 27.4 seconds RetCode: 0 Status: OK