Package: ACE Version: 1.28.0 Command: rm -rf ACE.buildbin-libdir && mkdir ACE.buildbin-libdir && /Users/biocbuild/BBS/utils/build-universal.sh ACE_1.28.0.tar.gz /Library/Frameworks/R.framework/Resources/bin/R ACE.buildbin-libdir StartedAt: 2025-11-04 01:26:53 -0500 (Tue, 04 Nov 2025) EndedAt: 2025-11-04 01:27:27 -0500 (Tue, 04 Nov 2025) EllapsedTime: 33.5 seconds RetCode: 0 Status: OK PackageFile: ACE_1.28.0.tgz PackageFileSize: 2.79 MiB