Package: ABarray Version: 1.77.0 Command: F:\biocbuild\bbs-3.22-bioc\R\bin\R.exe CMD check --no-multiarch --install=check:ABarray.install-out.txt --library=F:\biocbuild\bbs-3.22-bioc\R\library --no-vignettes --timings ABarray_1.77.0.tar.gz StartedAt: 2025-08-15 00:20:46 -0400 (Fri, 15 Aug 2025) EndedAt: 2025-08-15 00:22:08 -0400 (Fri, 15 Aug 2025) EllapsedTime: 81.9 seconds RetCode: 0 Status: OK CheckDir: ABarray.Rcheck Warnings: 0