Package: ABSSeq Version: 1.63.0 Command: /home/biocbuild/R/R/bin/R CMD check --install=check:ABSSeq.install-out.txt --library=/home/biocbuild/R/R/site-library --no-vignettes --timings ABSSeq_1.63.0.tar.gz StartedAt: 2025-10-21 04:19:53 -0000 (Tue, 21 Oct 2025) EndedAt: 2025-10-21 04:22:38 -0000 (Tue, 21 Oct 2025) EllapsedTime: 165.2 seconds RetCode: 0 Status: OK CheckDir: ABSSeq.Rcheck Warnings: 0