Package: ABSSeq Version: 1.63.0 Command: F:\biocbuild\bbs-3.22-bioc\R\bin\R.exe CMD check --no-multiarch --install=check:ABSSeq.install-out.txt --library=F:\biocbuild\bbs-3.22-bioc\R\library --no-vignettes --timings ABSSeq_1.63.0.tar.gz StartedAt: 2025-08-15 00:20:46 -0400 (Fri, 15 Aug 2025) EndedAt: 2025-08-15 00:23:35 -0400 (Fri, 15 Aug 2025) EllapsedTime: 169.3 seconds RetCode: 0 Status: OK CheckDir: ABSSeq.Rcheck Warnings: 0