Package: ABSSeq Version: 1.63.0 Command: chmod a+r ABSSeq -R && F:\biocbuild\bbs-3.22-bioc\R\bin\R.exe CMD build --keep-empty-dirs --no-resave-data ABSSeq StartedAt: 2025-08-14 18:21:16 -0400 (Thu, 14 Aug 2025) EndedAt: 2025-08-14 18:23:13 -0400 (Thu, 14 Aug 2025) EllapsedTime: 116.9 seconds RetCode: 0 Status: OK PackageFile: ABSSeq_1.63.0.tar.gz PackageFileSize: 994.7 KiB