Package: ABSSeq Version: 1.63.0 Command: /Library/Frameworks/R.framework/Resources/bin/R CMD build --keep-empty-dirs --no-resave-data ABSSeq StartedAt: 2025-10-22 15:58:16 -0400 (Wed, 22 Oct 2025) EndedAt: 2025-10-22 15:59:45 -0400 (Wed, 22 Oct 2025) EllapsedTime: 89.5 seconds RetCode: 0 Status: OK PackageFile: ABSSeq_1.63.0.tar.gz PackageFileSize: 1.072 MiB