Package: yeastNagalakshmi Version: 1.44.0 Command: /home/biocbuild/bbs-3.21-bioc/R/bin/R CMD INSTALL yeastNagalakshmi StartedAt: 2025-10-16 10:55:35 -0400 (Thu, 16 Oct 2025) EndedAt: 2025-10-16 10:55:36 -0400 (Thu, 16 Oct 2025) EllapsedTime: 0.9 seconds RetCode: 0 Status: OK