Package: timecoursedata Version: 1.18.0 Command: /home/biocbuild/bbs-3.21-bioc/R/bin/R CMD check --install=check:timecoursedata.install-out.txt --library=/home/biocbuild/bbs-3.21-bioc/R/site-library --timings timecoursedata_1.18.0.tar.gz StartedAt: 2025-10-16 13:06:38 -0400 (Thu, 16 Oct 2025) EndedAt: 2025-10-16 13:09:39 -0400 (Thu, 16 Oct 2025) EllapsedTime: 180.8 seconds RetCode: 0 Status: OK CheckDir: timecoursedata.Rcheck Warnings: 0