Package: timecoursedata Version: 1.18.0 Command: /home/biocbuild/bbs-3.21-bioc/R/bin/R CMD build --keep-empty-dirs --no-resave-data timecoursedata StartedAt: 2025-10-16 11:42:57 -0400 (Thu, 16 Oct 2025) EndedAt: 2025-10-16 11:43:38 -0400 (Thu, 16 Oct 2025) EllapsedTime: 40.8 seconds RetCode: 0 Status: OK PackageFile: timecoursedata_1.18.0.tar.gz PackageFileSize: 44.87 MiB