Package: seqc Version: 1.42.0 Command: /home/biocbuild/bbs-3.21-bioc/R/bin/R CMD check --install=check:seqc.install-out.txt --library=/home/biocbuild/bbs-3.21-bioc/R/site-library --timings seqc_1.42.0.tar.gz StartedAt: 2025-10-16 12:55:46 -0400 (Thu, 16 Oct 2025) EndedAt: 2025-10-16 12:56:59 -0400 (Thu, 16 Oct 2025) EllapsedTime: 72.6 seconds RetCode: 0 Status: WARNINGS CheckDir: seqc.Rcheck Warnings: 1