Package: seqc Version: 1.42.0 Command: /home/biocbuild/bbs-3.21-bioc/R/bin/R CMD build --keep-empty-dirs --no-resave-data seqc StartedAt: 2025-10-16 11:38:58 -0400 (Thu, 16 Oct 2025) EndedAt: 2025-10-16 11:41:05 -0400 (Thu, 16 Oct 2025) EllapsedTime: 127.3 seconds RetCode: 0 Status: OK PackageFile: seqc_1.42.0.tar.gz PackageFileSize: 179.1 MiB