Package: scpdata Version: 1.16.1 Command: /home/biocbuild/bbs-3.21-bioc/R/bin/R CMD INSTALL scpdata StartedAt: 2025-07-24 11:00:37 -0400 (Thu, 24 Jul 2025) EndedAt: 2025-07-24 11:01:10 -0400 (Thu, 24 Jul 2025) EllapsedTime: 32.1 seconds RetCode: 0 Status: OK