Package: scpdata Version: 1.16.1 Command: /home/biocbuild/bbs-3.21-bioc/R/bin/R CMD build --keep-empty-dirs --no-resave-data scpdata StartedAt: 2025-07-24 11:38:20 -0400 (Thu, 24 Jul 2025) EndedAt: 2025-07-24 11:39:17 -0400 (Thu, 24 Jul 2025) EllapsedTime: 56.9 seconds RetCode: 0 Status: OK PackageFile: scpdata_1.16.1.tar.gz PackageFileSize: 699.1 KiB