Package: scaeData Version: 1.4.0 Command: /home/biocbuild/bbs-3.21-bioc/R/bin/R CMD INSTALL scaeData StartedAt: 2025-10-16 10:57:27 -0400 (Thu, 16 Oct 2025) EndedAt: 2025-10-16 10:57:41 -0400 (Thu, 16 Oct 2025) EllapsedTime: 13.5 seconds RetCode: 0 Status: OK