Package: msPurityData Version: 1.36.0 Command: /home/biocbuild/bbs-3.21-bioc/R/bin/R CMD INSTALL msPurityData StartedAt: 2025-10-16 10:55:21 -0400 (Thu, 16 Oct 2025) EndedAt: 2025-10-16 10:55:23 -0400 (Thu, 16 Oct 2025) EllapsedTime: 2.1 seconds RetCode: 0 Status: OK