Package: minionSummaryData Version: 1.38.0 Command: /home/biocbuild/bbs-3.21-bioc/R/bin/R CMD build --keep-empty-dirs --no-resave-data minionSummaryData StartedAt: 2025-10-16 11:28:55 -0400 (Thu, 16 Oct 2025) EndedAt: 2025-10-16 11:29:07 -0400 (Thu, 16 Oct 2025) EllapsedTime: 12.0 seconds RetCode: 0 Status: OK PackageFile: minionSummaryData_1.38.0.tar.gz PackageFileSize: 134.7 MiB