Package: hapmap500knsp Version: 1.50.0 Command: /home/biocbuild/bbs-3.21-bioc/R/bin/R CMD INSTALL hapmap500knsp StartedAt: 2025-10-16 10:55:37 -0400 (Thu, 16 Oct 2025) EndedAt: 2025-10-16 10:55:40 -0400 (Thu, 16 Oct 2025) EllapsedTime: 3.3 seconds RetCode: 0 Status: OK