Package: dorothea Version: 1.20.0 Command: /home/biocbuild/bbs-3.21-bioc/R/bin/R CMD check --install=check:dorothea.install-out.txt --library=/home/biocbuild/bbs-3.21-bioc/R/site-library --timings dorothea_1.20.0.tar.gz StartedAt: 2025-10-14 12:12:14 -0400 (Tue, 14 Oct 2025) EndedAt: 2025-10-14 12:14:41 -0400 (Tue, 14 Oct 2025) EllapsedTime: 146.8 seconds RetCode: 0 Status: OK CheckDir: dorothea.Rcheck Warnings: 0