Package: curatedAdipoRNA Version: 1.24.0 Command: /home/biocbuild/bbs-3.21-bioc/R/bin/R CMD check --install=check:curatedAdipoRNA.install-out.txt --library=/home/biocbuild/bbs-3.21-bioc/R/site-library --timings curatedAdipoRNA_1.24.0.tar.gz StartedAt: 2025-10-16 12:06:50 -0400 (Thu, 16 Oct 2025) EndedAt: 2025-10-16 12:09:09 -0400 (Thu, 16 Oct 2025) EllapsedTime: 139.2 seconds RetCode: 0 Status: WARNINGS CheckDir: curatedAdipoRNA.Rcheck Warnings: 1