Package: breastCancerUPP Version: 1.46.0 Command: /home/biocbuild/bbs-3.21-bioc/R/bin/R CMD INSTALL breastCancerUPP StartedAt: 2025-10-16 10:55:15 -0400 (Thu, 16 Oct 2025) EndedAt: 2025-10-16 10:55:18 -0400 (Thu, 16 Oct 2025) EllapsedTime: 3.1 seconds RetCode: 0 Status: OK