Package: breastCancerUNT Version: 1.46.0 Command: /home/biocbuild/bbs-3.21-bioc/R/bin/R CMD build --keep-empty-dirs --no-resave-data breastCancerUNT StartedAt: 2025-10-16 11:07:19 -0400 (Thu, 16 Oct 2025) EndedAt: 2025-10-16 11:07:24 -0400 (Thu, 16 Oct 2025) EllapsedTime: 4.9 seconds RetCode: 0 Status: OK PackageFile: breastCancerUNT_1.46.0.tar.gz PackageFileSize: 48.32 MiB