Package: breastCancerNKI Version: 1.46.0 Command: /home/biocbuild/bbs-3.21-bioc/R/bin/R CMD build --keep-empty-dirs --no-resave-data breastCancerNKI StartedAt: 2025-10-16 11:07:17 -0400 (Thu, 16 Oct 2025) EndedAt: 2025-10-16 11:07:20 -0400 (Thu, 16 Oct 2025) EllapsedTime: 2.9 seconds RetCode: 0 Status: OK PackageFile: breastCancerNKI_1.46.0.tar.gz PackageFileSize: 15.55 MiB