Package: blimaTestingData Version: 1.28.0 Command: /home/biocbuild/bbs-3.21-bioc/R/bin/R CMD build --keep-empty-dirs --no-resave-data blimaTestingData StartedAt: 2025-10-16 11:06:48 -0400 (Thu, 16 Oct 2025) EndedAt: 2025-10-16 11:07:29 -0400 (Thu, 16 Oct 2025) EllapsedTime: 40.6 seconds RetCode: 0 Status: OK PackageFile: blimaTestingData_1.28.0.tar.gz PackageFileSize: 98.28 MiB