Package: biscuiteerData Version: 1.22.0 Command: /home/biocbuild/bbs-3.21-bioc/R/bin/R CMD INSTALL biscuiteerData StartedAt: 2025-07-24 10:58:26 -0400 (Thu, 24 Jul 2025) EndedAt: 2025-07-24 10:58:44 -0400 (Thu, 24 Jul 2025) EllapsedTime: 17.9 seconds RetCode: 0 Status: OK