Package: biscuiteerData Version: 1.22.0 Command: /home/biocbuild/bbs-3.21-bioc/R/bin/R CMD build --keep-empty-dirs --no-resave-data biscuiteerData StartedAt: 2025-07-24 11:06:41 -0400 (Thu, 24 Jul 2025) EndedAt: 2025-07-24 11:07:11 -0400 (Thu, 24 Jul 2025) EllapsedTime: 30.3 seconds RetCode: 0 Status: OK PackageFile: biscuiteerData_1.22.0.tar.gz PackageFileSize: 188.3 KiB