Package: TCGAcrcmRNA Version: 1.28.0 Command: /home/biocbuild/bbs-3.21-bioc/R/bin/R CMD check --install=check:TCGAcrcmRNA.install-out.txt --library=/home/biocbuild/bbs-3.21-bioc/R/site-library --timings TCGAcrcmRNA_1.28.0.tar.gz StartedAt: 2025-10-16 13:03:44 -0400 (Thu, 16 Oct 2025) EndedAt: 2025-10-16 13:04:13 -0400 (Thu, 16 Oct 2025) EllapsedTime: 28.6 seconds RetCode: 0 Status: OK CheckDir: TCGAcrcmRNA.Rcheck Warnings: 0