Package: TBX20BamSubset Version: 1.44.0 Command: /home/biocbuild/bbs-3.21-bioc/R/bin/R CMD build --keep-empty-dirs --no-resave-data TBX20BamSubset StartedAt: 2025-10-16 11:41:58 -0400 (Thu, 16 Oct 2025) EndedAt: 2025-10-16 11:42:21 -0400 (Thu, 16 Oct 2025) EllapsedTime: 22.9 seconds RetCode: 0 Status: OK PackageFile: TBX20BamSubset_1.44.0.tar.gz PackageFileSize: 94.74 MiB