Package: SpikeIn Version: 1.50.0 Command: /home/biocbuild/bbs-3.21-bioc/R/bin/R CMD INSTALL SpikeIn StartedAt: 2025-07-24 10:56:17 -0400 (Thu, 24 Jul 2025) EndedAt: 2025-07-24 10:56:25 -0400 (Thu, 24 Jul 2025) EllapsedTime: 8.7 seconds RetCode: 0 Status: OK