Package: RnBeads.hg19 Version: 1.40.0 Command: /home/biocbuild/bbs-3.21-bioc/R/bin/R CMD INSTALL RnBeads.hg19 StartedAt: 2025-07-24 10:58:42 -0400 (Thu, 24 Jul 2025) EndedAt: 2025-07-24 10:58:49 -0400 (Thu, 24 Jul 2025) EllapsedTime: 7.7 seconds RetCode: 0 Status: OK