Package: RforProteomics Version: 1.46.0 Command: /home/biocbuild/bbs-3.21-bioc/R/bin/R CMD check --install=check:RforProteomics.install-out.txt --library=/home/biocbuild/bbs-3.21-bioc/R/site-library --timings RforProteomics_1.46.0.tar.gz StartedAt: 2025-10-16 12:47:51 -0400 (Thu, 16 Oct 2025) EndedAt: 2025-10-16 12:58:24 -0400 (Thu, 16 Oct 2025) EllapsedTime: 633.6 seconds RetCode: 0 Status: WARNINGS CheckDir: RforProteomics.Rcheck Warnings: 1