Package: RforProteomics Version: 1.46.0 Command: /home/biocbuild/bbs-3.21-bioc/R/bin/R CMD build --keep-empty-dirs --no-resave-data RforProteomics StartedAt: 2025-10-16 11:34:59 -0400 (Thu, 16 Oct 2025) EndedAt: 2025-10-16 11:41:06 -0400 (Thu, 16 Oct 2025) EllapsedTime: 367.8 seconds RetCode: 0 Status: OK PackageFile: RforProteomics_1.46.0.tar.gz PackageFileSize: 9.171 MiB