Package: ObMiTi Version: 1.16.0 Command: /home/biocbuild/bbs-3.21-bioc/R/bin/R CMD INSTALL ObMiTi StartedAt: 2025-10-16 10:59:21 -0400 (Thu, 16 Oct 2025) EndedAt: 2025-10-16 10:59:46 -0400 (Thu, 16 Oct 2025) EllapsedTime: 25.3 seconds RetCode: 0 Status: OK