Package: ObMiTi Version: 1.16.0 Command: /home/biocbuild/bbs-3.21-bioc/R/bin/R CMD build --keep-empty-dirs --no-resave-data ObMiTi StartedAt: 2025-10-16 11:31:38 -0400 (Thu, 16 Oct 2025) EndedAt: 2025-10-16 11:32:20 -0400 (Thu, 16 Oct 2025) EllapsedTime: 42.3 seconds RetCode: 0 Status: OK PackageFile: ObMiTi_1.16.0.tar.gz PackageFileSize: 46.77 KiB