Package: MicrobiomeBenchmarkData Version: 1.10.0 Command: /home/biocbuild/bbs-3.21-bioc/R/bin/R CMD check --install=check:MicrobiomeBenchmarkData.install-out.txt --library=/home/biocbuild/bbs-3.21-bioc/R/site-library --timings MicrobiomeBenchmarkData_1.10.0.tar.gz StartedAt: 2025-10-16 12:34:49 -0400 (Thu, 16 Oct 2025) EndedAt: 2025-10-16 12:40:15 -0400 (Thu, 16 Oct 2025) EllapsedTime: 325.9 seconds RetCode: 0 Status: OK CheckDir: MicrobiomeBenchmarkData.Rcheck Warnings: 0