Package: HCAData Version: 1.24.0 Command: /home/biocbuild/bbs-3.21-bioc/R/bin/R CMD check --install=check:HCAData.install-out.txt --library=/home/biocbuild/bbs-3.21-bioc/R/site-library --timings HCAData_1.24.0.tar.gz StartedAt: 2025-10-16 12:22:57 -0400 (Thu, 16 Oct 2025) EndedAt: 2025-10-16 12:28:51 -0400 (Thu, 16 Oct 2025) EllapsedTime: 354.4 seconds RetCode: 0 Status: OK CheckDir: HCAData.Rcheck Warnings: 0