Package: GeuvadisTranscriptExpr Version: 1.36.0 Command: /home/biocbuild/bbs-3.21-bioc/R/bin/R CMD INSTALL GeuvadisTranscriptExpr StartedAt: 2025-10-16 10:56:02 -0400 (Thu, 16 Oct 2025) EndedAt: 2025-10-16 10:56:08 -0400 (Thu, 16 Oct 2025) EllapsedTime: 6.6 seconds RetCode: 0 Status: OK