Package: GeuvadisTranscriptExpr Version: 1.36.0 Command: /home/biocbuild/bbs-3.21-bioc/R/bin/R CMD build --keep-empty-dirs --no-resave-data GeuvadisTranscriptExpr StartedAt: 2025-10-16 11:18:40 -0400 (Thu, 16 Oct 2025) EndedAt: 2025-10-16 11:19:12 -0400 (Thu, 16 Oct 2025) EllapsedTime: 32.5 seconds RetCode: 0 Status: OK PackageFile: GeuvadisTranscriptExpr_1.36.0.tar.gz PackageFileSize: 7.203 MiB