Package: FIs Version: 1.36.0 Command: /home/biocbuild/bbs-3.21-bioc/R/bin/R CMD INSTALL FIs StartedAt: 2025-07-24 10:55:48 -0400 (Thu, 24 Jul 2025) EndedAt: 2025-07-24 10:55:50 -0400 (Thu, 24 Jul 2025) EllapsedTime: 2.2 seconds RetCode: 0 Status: OK