Package: DrugVsDiseasedata Version: 1.44.0 Command: /home/biocbuild/bbs-3.21-bioc/R/bin/R CMD build --keep-empty-dirs --no-resave-data DrugVsDiseasedata StartedAt: 2025-10-16 11:14:34 -0400 (Thu, 16 Oct 2025) EndedAt: 2025-10-16 11:14:38 -0400 (Thu, 16 Oct 2025) EllapsedTime: 4.4 seconds RetCode: 0 Status: OK PackageFile: DrugVsDiseasedata_1.44.0.tar.gz PackageFileSize: 4.104 MiB