Package: CoSIAdata Version: 1.8.0 Command: /home/biocbuild/bbs-3.21-bioc/R/bin/R CMD check --install=check:CoSIAdata.install-out.txt --library=/home/biocbuild/bbs-3.21-bioc/R/site-library --timings CoSIAdata_1.8.0.tar.gz StartedAt: 2025-10-16 12:05:52 -0400 (Thu, 16 Oct 2025) EndedAt: 2025-10-16 12:09:27 -0400 (Thu, 16 Oct 2025) EllapsedTime: 214.8 seconds RetCode: 0 Status: OK CheckDir: CoSIAdata.Rcheck Warnings: 0