Package: COPDSexualDimorphism.data Version: 1.44.0 Command: /home/biocbuild/bbs-3.21-bioc/R/bin/R CMD INSTALL COPDSexualDimorphism.data StartedAt: 2025-10-16 10:55:12 -0400 (Thu, 16 Oct 2025) EndedAt: 2025-10-16 10:55:15 -0400 (Thu, 16 Oct 2025) EllapsedTime: 2.6 seconds RetCode: 0 Status: OK