Package: AshkenazimSonChr21 Version: 1.38.0 Command: /home/biocbuild/bbs-3.21-bioc/R/bin/R CMD build --keep-empty-dirs --no-resave-data AshkenazimSonChr21 StartedAt: 2025-10-16 11:06:21 -0400 (Thu, 16 Oct 2025) EndedAt: 2025-10-16 11:06:45 -0400 (Thu, 16 Oct 2025) EllapsedTime: 24.1 seconds RetCode: 0 Status: OK PackageFile: AshkenazimSonChr21_1.38.0.tar.gz PackageFileSize: 9.756 MiB