Welcome to mirrors.dotsrc.org

All our mirrors of open source software are available via http, https, ftp and an onion service. More information about our mirrors including statistics and contact information is available on our mirror info pages.

For information about dotsrc.org and our other services please go to our website.

Index of /bioconductor/checkResults/3.21/data-experiment-LATEST/

File Name  ↓ File Size  ↓ Date  ↓ 
--
-2025-10-16 19:01:43
-2025-10-16 19:01:43
-2025-10-16 19:01:43
-2025-10-16 19:01:43
-2025-10-16 19:01:43
-2025-10-16 19:01:43
-2025-10-16 19:01:43
-2025-10-16 19:01:43
-2025-10-16 19:01:43
-2025-10-16 19:01:43
-2025-10-16 19:01:43
-2025-10-16 19:01:43
-2025-10-16 19:01:43
-2025-10-16 19:01:43
-2025-10-16 19:01:43
-2025-10-16 19:01:43
-2025-10-16 19:01:43
-2025-10-16 19:01:43
-2025-10-16 19:01:43
-2025-10-16 19:01:43
-2025-10-16 19:01:43
-2025-10-16 19:01:43
-2025-10-16 19:01:43
-2025-10-16 19:01:43
-2025-10-16 19:01:43
-2025-10-16 19:01:43
-2025-10-16 19:01:43
-2025-10-16 19:01:43
-2025-10-16 19:01:43
-2025-10-16 19:01:43
-2025-10-16 19:01:43
-2025-10-16 19:01:43
-2025-10-16 19:01:43
-2025-10-16 19:01:43
-2025-10-16 19:01:43
-2025-10-16 19:01:43
-2025-10-16 19:01:43
-2025-10-16 19:01:43
-2025-10-16 19:01:43
-2025-10-16 19:01:43
-2025-10-16 19:01:43
-2025-10-16 19:01:43
-2025-10-16 19:01:43
-2025-10-16 19:01:43
-2025-10-16 19:01:43
-2025-10-16 19:01:43
-2025-10-16 19:01:43
-2025-10-16 19:01:43
-2025-10-16 19:01:43
-2025-10-16 19:01:43
-2025-10-16 19:01:43
-2025-10-16 19:01:43
-2025-10-16 19:01:43
-2025-10-16 19:01:43
-2025-10-16 19:01:43
-2025-10-16 19:01:43
-2025-10-16 19:01:43
-2025-10-16 19:01:43
-2025-10-16 19:01:43
-2025-10-16 19:01:43
-2025-10-16 19:01:43
-2025-10-16 19:01:43
-2025-10-16 19:01:43
-2025-10-16 19:01:43
-2025-10-16 19:01:43
-2025-10-16 19:01:43
-2025-10-16 19:01:43
-2025-10-16 19:01:43
-2025-10-16 19:01:43
-2025-10-16 19:01:43
-2025-10-16 19:01:43
-2025-10-16 19:01:43
-2025-10-16 19:01:43
-2025-10-16 19:01:43
-2025-10-16 19:01:43
-2025-10-16 19:01:43
-2025-10-16 19:01:43
-2025-10-16 19:01:43
-2025-10-16 19:01:43
-2025-10-16 19:01:43
-2025-10-16 19:01:43
-2025-10-16 19:01:43
-2025-10-16 19:01:43
-2025-10-16 19:01:43
-2025-10-16 19:01:43
-2025-10-16 19:01:43
-2025-10-16 19:01:43
-2025-10-16 19:01:43
-2025-10-16 19:01:43
-2025-10-16 19:01:43
-2025-10-16 19:01:43
-2025-10-16 19:01:43
-2025-10-16 19:01:43
-2025-10-16 19:01:43
-2025-10-16 19:01:43
-2025-10-16 19:01:43
-2025-10-16 19:01:43
-2025-10-16 19:01:43
-2025-10-16 19:01:43
-2025-10-16 19:01:43
-2025-10-16 19:01:43
-2025-10-16 19:01:43
-2025-10-16 19:01:43
-2025-10-16 19:01:43
-2025-10-16 19:01:43
-2025-10-16 19:01:43
-2025-10-16 19:01:43
-2025-10-16 19:01:43
-2025-10-16 19:01:43
-2025-10-16 19:01:43
-2025-10-16 19:01:43
-2025-10-16 19:01:43
-2025-10-16 19:01:43
-2025-10-16 19:01:43
-2025-10-16 19:01:43
-2025-10-16 19:01:43
-2025-10-16 19:01:43
-2025-10-16 19:01:43
-2025-10-16 19:01:43
-2025-10-16 19:01:43
-2025-10-16 19:01:43
-2025-10-16 19:01:43
-2025-10-16 19:01:43
-2025-10-16 19:01:43
-2025-10-16 19:01:43
-2025-10-16 19:01:43
-2025-10-16 19:01:43
-2025-10-16 19:01:43
-2025-10-16 19:01:43
-2025-10-16 19:01:43
-2025-10-16 19:01:43
-2025-10-16 19:01:43
-2025-10-16 19:01:43
-2025-10-16 19:01:43
-2025-10-16 19:01:43
-2025-10-16 19:01:43
-2025-10-16 19:01:43
-2025-10-16 19:01:43
-2025-10-16 19:01:43
-2025-10-16 19:01:43
-2025-10-16 19:01:43
-2025-10-16 19:01:43
-2025-10-16 19:01:43
-2025-10-16 19:01:43
-2025-10-16 19:01:43
-2025-10-16 19:01:43
-2025-10-16 19:01:43
-2025-10-16 19:01:43
-2025-10-16 19:01:43
-2025-10-16 19:01:43
-2025-10-16 19:01:43
-2025-10-16 19:01:43
-2025-10-16 19:01:43
-2025-10-16 19:01:43
-2025-10-16 19:01:43
-2025-10-16 19:01:43
-2025-10-16 19:01:43
-2025-10-16 19:01:43
-2025-10-16 19:01:43
-2025-10-16 19:01:43
-2025-10-16 19:01:43
-2025-10-16 19:01:43
-2025-10-16 19:01:43
-2025-10-16 19:01:43
-2025-10-16 19:01:43
-2025-10-16 19:01:43
-2025-10-16 19:01:43
-2025-10-16 19:01:43
-2025-10-16 19:01:43
-2025-10-16 19:01:43
-2025-10-16 19:01:43
-2025-10-16 19:01:43
-2025-10-16 19:01:43
-2025-10-16 19:01:43
-2025-10-16 19:01:43
-2025-10-16 19:01:43
-2025-10-16 19:01:43
-2025-10-16 19:01:43
-2025-10-16 19:01:43
-2025-10-16 19:01:43
-2025-10-16 19:01:43
-2025-10-16 19:01:43
-2025-10-16 19:01:43
-2025-10-16 19:01:43
-2025-10-16 19:01:43
-2025-10-16 19:01:43
-2025-10-16 19:01:43
-2025-10-16 19:01:43
-2025-10-16 19:01:43
-2025-10-16 19:01:43
-2025-10-16 19:01:43
-2025-10-16 19:01:43
-2025-10-16 19:01:43
-2025-10-16 19:01:43
-2025-10-16 19:01:43
-2025-10-16 19:01:43
-2025-10-16 19:01:43
-2025-10-16 19:01:43
-2025-10-16 19:01:43
-2025-10-16 19:01:43
-2025-10-16 19:01:43
-2025-10-16 19:01:43
-2025-10-16 19:01:43
-2025-10-16 19:01:43
-2025-10-16 19:01:43
-2025-10-16 19:01:43
-2025-10-16 19:01:43
-2025-10-16 19:01:43
-2025-10-16 19:01:43
-2025-10-16 19:01:43
-2025-10-16 19:01:43
-2025-10-16 19:01:43
-2025-10-16 19:01:43
-2025-10-16 19:01:43
-2025-10-16 19:01:43
-2025-10-16 19:01:43
-2025-10-16 19:01:43
-2025-10-16 19:01:43
-2025-10-16 19:01:43
-2025-10-16 19:01:43
-2025-10-16 19:01:43
-2025-10-16 19:01:43
-2025-10-16 19:01:43
-2025-10-16 19:01:43
-2025-10-16 19:01:43
-2025-10-16 19:01:43
-2025-10-16 19:01:44
-2025-10-16 19:01:44
-2025-10-16 19:01:44
-2025-10-16 19:01:44
-2025-10-16 19:01:44
-2025-10-16 19:01:44
-2025-10-16 19:01:44
-2025-10-16 19:01:44
-2025-10-16 19:01:44
-2025-10-16 19:01:44
-2025-10-16 19:01:44
-2025-10-16 19:01:44
-2025-10-16 19:01:44
-2025-10-16 19:01:44
-2025-10-16 19:01:44
-2025-10-16 19:01:44
-2025-10-16 19:01:44
-2025-10-16 19:01:44
-2025-10-16 19:01:44
-2025-10-16 19:01:44
-2025-10-16 19:01:44
-2025-10-16 19:01:44
-2025-10-16 19:01:44
-2025-10-16 19:01:44
-2025-10-16 19:01:44
-2025-10-16 19:01:44
-2025-10-16 19:01:44
-2025-10-16 19:01:44
-2025-10-16 19:01:44
-2025-10-16 19:01:44
-2025-10-16 19:01:44
-2025-10-16 19:01:44
-2025-10-16 19:01:44
-2025-10-16 19:01:44
-2025-10-16 19:01:44
-2025-10-16 19:01:44
-2025-10-16 19:01:44
-2025-10-16 19:01:44
-2025-10-16 19:01:44
-2025-10-16 19:01:44
-2025-10-16 19:01:44
-2025-10-16 19:01:44
-2025-10-16 19:01:44
-2025-10-16 19:01:44
-2025-10-16 19:01:44
-2025-10-16 19:01:44
-2025-10-16 19:01:44
-2025-10-16 19:01:44
-2025-10-16 19:01:44
-2025-10-16 19:01:44
-2025-10-16 19:01:44
-2025-10-16 19:01:44
-2025-10-16 19:01:44
-2025-10-16 19:01:44
-2025-10-16 19:01:44
-2025-10-16 19:01:44
-2025-10-16 19:01:44
-2025-10-16 19:01:44
-2025-10-16 19:01:44
-2025-10-16 19:01:44
-2025-10-16 19:01:44
-2025-10-16 19:01:44
-2025-10-16 19:01:44
-2025-10-16 19:01:44
-2025-10-16 19:01:44
-2025-10-16 19:01:44
-2025-10-16 19:01:44
-2025-10-16 19:01:44
-2025-10-16 19:01:44
-2025-10-16 19:01:44
-2025-10-16 19:01:44
-2025-10-16 19:01:44
-2025-10-16 19:01:44
-2025-10-16 19:01:44
-2025-10-16 19:01:44
-2025-10-16 19:01:44
-2025-10-16 19:01:44
-2025-10-16 19:01:44
-2025-10-16 19:01:44
-2025-10-16 19:01:44
-2025-10-16 19:01:44
-2025-10-16 19:01:44
-2025-10-16 19:01:44
-2025-10-16 19:01:44
-2025-10-16 19:01:44
-2025-10-16 19:01:44
-2025-10-16 19:01:44
-2025-10-16 19:01:44
-2025-10-16 19:01:44
-2025-10-16 19:01:44
-2025-10-16 19:01:44
-2025-10-16 19:01:44
-2025-10-16 19:01:44
-2025-10-16 19:01:44
-2025-10-16 19:01:44
-2025-10-16 19:01:44
-2025-10-16 19:01:44
-2025-10-16 19:01:44
-2025-10-16 19:01:44
-2025-10-16 19:01:44
-2025-10-16 19:01:44
-2025-10-16 19:01:44
-2025-10-16 19:01:44
-2025-10-16 19:01:44
-2025-10-16 19:01:44
-2025-10-16 19:01:44
-2025-10-16 19:01:44
-2025-10-16 19:01:44
-2025-10-16 19:01:44
-2025-10-16 19:01:44
-2025-10-16 19:01:44
-2025-10-16 19:01:44
-2025-10-16 19:01:44
-2025-10-16 19:01:44
-2025-10-16 19:01:44
-2025-10-16 19:01:44
-2025-10-16 19:01:44
-2025-10-16 19:01:44
-2025-10-16 19:01:44
-2025-10-16 19:01:44
-2025-10-16 19:01:44
-2025-10-16 19:01:44
-2025-10-16 19:01:44
-2025-10-16 19:01:44
-2025-10-16 19:01:44
-2025-10-16 19:01:44
-2025-10-16 19:01:44
-2025-10-16 19:01:44
-2025-10-16 19:01:44
-2025-10-16 19:01:44
-2025-10-16 19:01:44
-2025-10-16 19:01:44
-2025-10-16 19:01:44
-2025-10-16 19:01:44
-2025-10-16 19:01:44
-2025-10-16 19:01:44
-2025-10-16 19:01:44
-2025-10-16 19:01:44
-2025-10-16 19:01:44
-2025-10-16 19:01:44
-2025-10-16 19:01:44
-2025-10-16 19:01:44
-2025-10-16 19:01:44
-2025-10-16 19:01:44
-2025-10-16 19:01:44
-2025-10-16 19:01:44
-2025-10-16 19:01:44
-2025-10-16 19:01:44
-2025-10-16 19:01:44
-2025-10-16 19:01:44
-2025-10-16 19:01:44
-2025-10-16 19:01:44
-2025-10-16 19:01:44
-2025-10-16 19:01:44
-2025-10-16 19:01:44
-2025-10-16 19:01:44
-2025-10-16 19:01:44
-2025-10-16 19:01:44
-2025-10-16 19:01:44
-2025-10-16 19:01:44
-2025-10-16 19:01:44
-2025-10-16 19:01:44
-2025-10-16 19:01:44
-2025-10-16 19:01:44
-2025-10-16 19:01:44
-2025-10-16 19:01:44
-2025-10-16 19:01:44
-2025-10-16 19:01:44
-2025-10-16 19:01:44
-2025-10-16 19:01:44
-2025-10-16 19:01:44
-2025-10-16 19:01:44
-2025-10-16 19:01:44
-2025-10-16 19:01:44
-2025-10-16 19:01:44
-2025-10-16 19:01:44
-2025-10-16 19:01:44
-2025-10-16 19:01:44
-2025-10-16 19:01:44
-2025-10-16 19:01:44
-2025-10-16 19:01:44
-2025-10-16 19:01:44
-2025-10-16 19:01:44
-2025-10-16 19:01:44
-2025-10-16 19:01:44
-2025-10-16 19:01:44
-2025-10-16 19:01:44
-2025-10-16 19:01:44
-2025-10-16 19:01:44
-2025-10-16 19:01:44
-2025-10-16 19:01:44
-2025-10-16 19:01:44
-2025-10-16 19:01:44
-2025-10-16 19:01:44
-2025-10-16 19:01:44
-2025-10-16 19:01:44
-2025-10-16 19:01:44
-2025-10-16 19:01:44
-2025-10-16 19:01:44
-2025-10-16 19:01:44
-2025-10-16 19:01:44
-2025-10-16 19:01:44
-2025-10-16 19:01:44
-2025-10-16 19:01:44
-2025-10-16 19:01:44
-2025-10-16 19:01:44
47.3 KiB2025-10-16 19:01:42
529.5 KiB2025-10-16 19:01:42
31.4 KiB2025-10-16 19:01:42
2.6 KiB2025-10-16 19:01:42
11.7 KiB2025-10-16 19:01:42
7.4 KiB2025-10-16 19:01:42
0 B2025-10-16 19:01:42
7.1 KiB2025-10-16 19:01:42
3.3 KiB2025-10-16 19:01:42
6.0 KiB2025-10-16 19:01:42
46.5 KiB2025-10-16 19:01:42
7.0 KiB2025-10-16 19:01:42
7.1 KiB2025-10-16 19:01:42
598.6 KiB2025-10-16 19:01:44
1.2 MiB2025-10-16 19:01:46