Welcome to mirrors.dotsrc.org

All our mirrors of open source software are available via http, https, ftp and an onion service. More information about our mirrors including statistics and contact information is available on our mirror info pages.

For information about dotsrc.org and our other services please go to our website.

Index of /bioconductor/checkResults/3.21/data-experiment-LATEST/

File Name  ↓ File Size  ↓ Date  ↓ 
--
-2025-07-22 19:01:41
-2025-07-22 19:01:41
-2025-07-22 19:01:41
-2025-07-22 19:01:41
-2025-07-22 19:01:41
-2025-07-22 19:01:41
-2025-07-22 19:01:41
-2025-07-22 19:01:41
-2025-07-22 19:01:41
-2025-07-22 19:01:41
-2025-07-22 19:01:41
-2025-07-22 19:01:41
-2025-07-22 19:01:41
-2025-07-22 19:01:41
-2025-07-22 19:01:41
-2025-07-22 19:01:41
-2025-07-22 19:01:41
-2025-07-22 19:01:41
-2025-07-22 19:01:41
-2025-07-22 19:01:41
-2025-07-22 19:01:41
-2025-07-22 19:01:41
-2025-07-22 19:01:41
-2025-07-22 19:01:41
-2025-07-22 19:01:41
-2025-07-22 19:01:41
-2025-07-22 19:01:41
-2025-07-22 19:01:41
-2025-07-22 19:01:41
-2025-07-22 19:01:41
-2025-07-22 19:01:41
-2025-07-22 19:01:41
-2025-07-22 19:01:41
-2025-07-22 19:01:41
-2025-07-22 19:01:41
-2025-07-22 19:01:41
-2025-07-22 19:01:41
-2025-07-22 19:01:41
-2025-07-22 19:01:41
-2025-07-22 19:01:41
-2025-07-22 19:01:41
-2025-07-22 19:01:41
-2025-07-22 19:01:41
-2025-07-22 19:01:41
-2025-07-22 19:01:41
-2025-07-22 19:01:41
-2025-07-22 19:01:41
-2025-07-22 19:01:41
-2025-07-22 19:01:41
-2025-07-22 19:01:41
-2025-07-22 19:01:41
-2025-07-22 19:01:41
-2025-07-22 19:01:41
-2025-07-22 19:01:41
-2025-07-22 19:01:41
-2025-07-22 19:01:41
-2025-07-22 19:01:41
-2025-07-22 19:01:41
-2025-07-22 19:01:41
-2025-07-22 19:01:41
-2025-07-22 19:01:41
-2025-07-22 19:01:41
-2025-07-22 19:01:41
-2025-07-22 19:01:41
-2025-07-22 19:01:41
-2025-07-22 19:01:41
-2025-07-22 19:01:41
-2025-07-22 19:01:41
-2025-07-22 19:01:41
-2025-07-22 19:01:41
-2025-07-22 19:01:41
-2025-07-22 19:01:41
-2025-07-22 19:01:41
-2025-07-22 19:01:41
-2025-07-22 19:01:41
-2025-07-22 19:01:41
-2025-07-22 19:01:41
-2025-07-22 19:01:41
-2025-07-22 19:01:41
-2025-07-22 19:01:41
-2025-07-22 19:01:41
-2025-07-22 19:01:41
-2025-07-22 19:01:41
-2025-07-22 19:01:41
-2025-07-22 19:01:41
-2025-07-22 19:01:41
-2025-07-22 19:01:41
-2025-07-22 19:01:41
-2025-07-22 19:01:41
-2025-07-22 19:01:41
-2025-07-22 19:01:41
-2025-07-22 19:01:41
-2025-07-22 19:01:41
-2025-07-22 19:01:41
-2025-07-22 19:01:41
-2025-07-22 19:01:41
-2025-07-22 19:01:41
-2025-07-22 19:01:41
-2025-07-22 19:01:41
-2025-07-22 19:01:41
-2025-07-22 19:01:41
-2025-07-22 19:01:41
-2025-07-22 19:01:41
-2025-07-22 19:01:41
-2025-07-22 19:01:41
-2025-07-22 19:01:41
-2025-07-22 19:01:41
-2025-07-22 19:01:41
-2025-07-22 19:01:41
-2025-07-22 19:01:41
-2025-07-22 19:01:41
-2025-07-22 19:01:41
-2025-07-22 19:01:41
-2025-07-22 19:01:41
-2025-07-22 19:01:41
-2025-07-22 19:01:41
-2025-07-22 19:01:41
-2025-07-22 19:01:41
-2025-07-22 19:01:41
-2025-07-22 19:01:41
-2025-07-22 19:01:41
-2025-07-22 19:01:41
-2025-07-22 19:01:41
-2025-07-22 19:01:41
-2025-07-22 19:01:41
-2025-07-22 19:01:41
-2025-07-22 19:01:41
-2025-07-22 19:01:41
-2025-07-22 19:01:41
-2025-07-22 19:01:41
-2025-07-22 19:01:41
-2025-07-22 19:01:41
-2025-07-22 19:01:42
-2025-07-22 19:01:41
-2025-07-22 19:01:41
-2025-07-22 19:01:41
-2025-07-22 19:01:42
-2025-07-22 19:01:42
-2025-07-22 19:01:42
-2025-07-22 19:01:42
-2025-07-22 19:01:42
-2025-07-22 19:01:42
-2025-07-22 19:01:42
-2025-07-22 19:01:42
-2025-07-22 19:01:42
-2025-07-22 19:01:42
-2025-07-22 19:01:42
-2025-07-22 19:01:42
-2025-07-22 19:01:42
-2025-07-22 19:01:42
-2025-07-22 19:01:42
-2025-07-22 19:01:42
-2025-07-22 19:01:42
-2025-07-22 19:01:42
-2025-07-22 19:01:42
-2025-07-22 19:01:42
-2025-07-22 19:01:42
-2025-07-22 19:01:42
-2025-07-22 19:01:42
-2025-07-22 19:01:42
-2025-07-22 19:01:42
-2025-07-22 19:01:42
-2025-07-22 19:01:42
-2025-07-22 19:01:42
-2025-07-22 19:01:42
-2025-07-22 19:01:42
-2025-07-22 19:01:42
-2025-07-22 19:01:42
-2025-07-22 19:01:42
-2025-07-22 19:01:42
-2025-07-22 19:01:42
-2025-07-22 19:01:42
-2025-07-22 19:01:42
-2025-07-22 19:01:42
-2025-07-22 19:01:42
-2025-07-22 19:01:42
-2025-07-22 19:01:42
-2025-07-22 19:01:42
-2025-07-22 19:01:42
-2025-07-22 19:01:42
-2025-07-22 19:01:42
-2025-07-22 19:01:42
-2025-07-22 19:01:42
-2025-07-22 19:01:42
-2025-07-22 19:01:42
-2025-07-22 19:01:42
-2025-07-22 19:01:42
-2025-07-22 19:01:42
-2025-07-22 19:01:42
-2025-07-22 19:01:42
-2025-07-22 19:01:42
-2025-07-22 19:01:42
-2025-07-22 19:01:42
-2025-07-22 19:01:42
-2025-07-22 19:01:42
-2025-07-22 19:01:42
-2025-07-22 19:01:42
-2025-07-22 19:01:42
-2025-07-22 19:01:42
-2025-07-22 19:01:42
-2025-07-22 19:01:42
-2025-07-22 19:01:42
-2025-07-22 19:01:42
-2025-07-22 19:01:42
-2025-07-22 19:01:42
-2025-07-22 19:01:42
-2025-07-22 19:01:42
-2025-07-22 19:01:42
-2025-07-22 19:01:42
-2025-07-22 19:01:42
-2025-07-22 19:01:42
-2025-07-22 19:01:42
-2025-07-22 19:01:42
-2025-07-22 19:01:42
-2025-07-22 19:01:42
-2025-07-22 19:01:42
-2025-07-22 19:01:42
-2025-07-22 19:01:42
-2025-07-22 19:01:42
-2025-07-22 19:01:42
-2025-07-22 19:01:42
-2025-07-22 19:01:42
-2025-07-22 19:01:42
-2025-07-22 19:01:42
-2025-07-22 19:01:42
-2025-07-22 19:01:42
-2025-07-22 19:01:41
-2025-07-22 19:01:41
-2025-07-22 19:01:41
-2025-07-22 19:01:41
-2025-07-22 19:01:41
-2025-07-22 19:01:41
-2025-07-22 19:01:41
-2025-07-22 19:01:41
-2025-07-22 19:01:41
-2025-07-22 19:01:41
-2025-07-22 19:01:41
-2025-07-22 19:01:41
-2025-07-22 19:01:41
-2025-07-22 19:01:41
-2025-07-22 19:01:41
-2025-07-22 19:01:41
-2025-07-22 19:01:41
-2025-07-22 19:01:41
-2025-07-22 19:01:41
-2025-07-22 19:01:41
-2025-07-22 19:01:41
-2025-07-22 19:01:41
-2025-07-22 19:01:41
-2025-07-22 19:01:41
-2025-07-22 19:01:41
-2025-07-22 19:01:41
-2025-07-22 19:01:41
-2025-07-22 19:01:41
-2025-07-22 19:01:41
-2025-07-22 19:01:41
-2025-07-22 19:01:41
-2025-07-22 19:01:41
-2025-07-22 19:01:41
-2025-07-22 19:01:41
-2025-07-22 19:01:41
-2025-07-22 19:01:41
-2025-07-22 19:01:41
-2025-07-22 19:01:41
-2025-07-22 19:01:41
-2025-07-22 19:01:41
-2025-07-22 19:01:41
-2025-07-22 19:01:41
-2025-07-22 19:01:41
-2025-07-22 19:01:41
-2025-07-22 19:01:41
-2025-07-22 19:01:41
-2025-07-22 19:01:41
-2025-07-22 19:01:41
-2025-07-22 19:01:41
-2025-07-22 19:01:41
-2025-07-22 19:01:41
-2025-07-22 19:01:41
-2025-07-22 19:01:41
-2025-07-22 19:01:41
-2025-07-22 19:01:41
-2025-07-22 19:01:41
-2025-07-22 19:01:41
-2025-07-22 19:01:41
-2025-07-22 19:01:41
-2025-07-22 19:01:41
-2025-07-22 19:01:41
-2025-07-22 19:01:41
-2025-07-22 19:01:41
-2025-07-22 19:01:41
-2025-07-22 19:01:41
-2025-07-22 19:01:41
-2025-07-22 19:01:41
-2025-07-22 19:01:41
-2025-07-22 19:01:41
-2025-07-22 19:01:41
-2025-07-22 19:01:41
-2025-07-22 19:01:41
-2025-07-22 19:01:41
-2025-07-22 19:01:41
-2025-07-22 19:01:41
-2025-07-22 19:01:41
-2025-07-22 19:01:41
-2025-07-22 19:01:41
-2025-07-22 19:01:41
-2025-07-22 19:01:41
-2025-07-22 19:01:41
-2025-07-22 19:01:41
-2025-07-22 19:01:41
-2025-07-22 19:01:41
-2025-07-22 19:01:41
-2025-07-22 19:01:41
-2025-07-22 19:01:41
-2025-07-22 19:01:41
-2025-07-22 19:01:41
-2025-07-22 19:01:41
-2025-07-22 19:01:41
-2025-07-22 19:01:41
-2025-07-22 19:01:41
-2025-07-22 19:01:41
-2025-07-22 19:01:41
-2025-07-22 19:01:41
-2025-07-22 19:01:41
-2025-07-22 19:01:41
-2025-07-22 19:01:41
-2025-07-22 19:01:41
-2025-07-22 19:01:41
-2025-07-22 19:01:41
-2025-07-22 19:01:41
-2025-07-22 19:01:41
-2025-07-22 19:01:41
-2025-07-22 19:01:41
-2025-07-22 19:01:41
-2025-07-22 19:01:41
-2025-07-22 19:01:41
-2025-07-22 19:01:41
-2025-07-22 19:01:41
-2025-07-22 19:01:41
-2025-07-22 19:01:41
-2025-07-22 19:01:41
-2025-07-22 19:01:41
-2025-07-22 19:01:41
-2025-07-22 19:01:41
-2025-07-22 19:01:41
-2025-07-22 19:01:41
-2025-07-22 19:01:41
-2025-07-22 19:01:41
-2025-07-22 19:01:41
-2025-07-22 19:01:41
-2025-07-22 19:01:41
-2025-07-22 19:01:41
-2025-07-22 19:01:41
-2025-07-22 19:01:41
-2025-07-22 19:01:41
-2025-07-22 19:01:41
-2025-07-22 19:01:41
-2025-07-22 19:01:41
-2025-07-22 19:01:41
-2025-07-22 19:01:41
-2025-07-22 19:01:41
-2025-07-22 19:01:41
-2025-07-22 19:01:41
-2025-07-22 19:01:41
-2025-07-22 19:01:41
-2025-07-22 19:01:41
-2025-07-22 19:01:42
-2025-07-22 19:01:42
-2025-07-22 19:01:42
-2025-07-22 19:01:42
-2025-07-22 19:01:42
-2025-07-22 19:01:42
-2025-07-22 19:01:42
-2025-07-22 19:01:42
-2025-07-22 19:01:42
-2025-07-22 19:01:42
-2025-07-22 19:01:42
-2025-07-22 19:01:42
-2025-07-22 19:01:42
-2025-07-22 19:01:42
-2025-07-22 19:01:42
-2025-07-22 19:01:42
-2025-07-22 19:01:42
-2025-07-22 19:01:42
-2025-07-22 19:01:42
-2025-07-22 19:01:42
-2025-07-22 19:01:42
-2025-07-22 19:01:42
-2025-07-22 19:01:42
-2025-07-22 19:01:42
-2025-07-22 19:01:42
-2025-07-22 19:01:42
-2025-07-22 19:01:42
-2025-07-22 19:01:42
-2025-07-22 19:01:42
-2025-07-22 19:01:42
-2025-07-22 19:01:42
-2025-07-22 19:01:42
-2025-07-22 19:01:42
-2025-07-22 19:01:42
-2025-07-22 19:01:42
-2025-07-22 19:01:42
-2025-07-22 19:01:42
-2025-07-22 19:01:42
-2025-07-22 19:01:42
-2025-07-22 19:01:42
-2025-07-22 19:01:42
-2025-07-22 19:01:42
-2025-07-22 19:01:42
-2025-07-22 19:01:42
-2025-07-22 19:01:42
-2025-07-22 19:01:42
-2025-07-22 19:01:42
-2025-07-22 19:01:42
-2025-07-22 19:01:42
-2025-07-22 19:01:42
-2025-07-22 19:01:42
-2025-07-22 19:01:42
-2025-07-22 19:01:42
-2025-07-22 19:01:42
-2025-07-22 19:01:42
-2025-07-22 19:01:42
-2025-07-22 19:01:42
-2025-07-22 19:01:42
-2025-07-22 19:01:42
-2025-07-22 19:01:42
-2025-07-22 19:01:42
-2025-07-22 19:01:42
-2025-07-22 19:01:42
-2025-07-22 19:01:42
-2025-07-22 19:01:42
-2025-07-22 19:01:42
-2025-07-22 19:01:42
7.1 KiB2025-07-22 19:01:40
7.1 KiB2025-07-22 19:01:40
7.0 KiB2025-07-22 19:01:40
47.2 KiB2025-07-22 19:01:40
2.6 KiB2025-07-22 19:01:40
31.7 KiB2025-07-22 19:01:40
3.3 KiB2025-07-22 19:01:40
599.5 KiB2025-07-22 19:01:42
46.5 KiB2025-07-22 19:01:40
7.0 KiB2025-07-22 19:01:40
528.2 KiB2025-07-22 19:01:40
11.0 KiB2025-07-22 19:01:40
6.0 KiB2025-07-22 19:01:40
1.2 MiB2025-07-22 19:01:44
0 B2025-07-22 19:01:40