Package: EPICv2manifest Version: 0.99.7 Command: /home/biocbuild/bbs-3.21-bioc/R/bin/R CMD build --keep-empty-dirs --no-resave-data EPICv2manifest StartedAt: 2025-10-08 06:01:12 -0400 (Wed, 08 Oct 2025) EndedAt: 2025-10-08 06:01:23 -0400 (Wed, 08 Oct 2025) EllapsedTime: 10.9 seconds RetCode: 0 Status: OK PackageFile: EPICv2manifest_0.99.7.tar.gz PackageFileSize: 7.226 KiB