Package: AHPathbankDbs Version: 0.99.5 Command: /home/biocbuild/bbs-3.21-bioc/R/bin/R CMD INSTALL AHPathbankDbs StartedAt: 2025-10-15 06:00:10 -0400 (Wed, 15 Oct 2025) EndedAt: 2025-10-15 06:00:19 -0400 (Wed, 15 Oct 2025) EllapsedTime: 8.8 seconds RetCode: 0 Status: OK