Package: AHEnsDbs Version: 1.7.0 Command: /home/biocbuild/bbs-3.21-bioc/R/bin/R CMD INSTALL AHEnsDbs StartedAt: 2025-10-15 06:00:23 -0400 (Wed, 15 Oct 2025) EndedAt: 2025-10-15 06:00:48 -0400 (Wed, 15 Oct 2025) EllapsedTime: 25.1 seconds RetCode: 0 Status: OK