Package: csawBook Version: 1.16.0 Command: rm -rf csawBook.book && mkdir csawBook.book && /home/biocbuild/BBS/utils/deploy_book.py csawBook_1.16.0.tar.gz csawBook.book StartedAt: 2025-10-13 12:33:29 -0400 (Mon, 13 Oct 2025) EndedAt: 2025-10-13 12:33:30 -0400 (Mon, 13 Oct 2025) EllapsedTime: 1.3 seconds RetCode: 0 Status: OK DeployDestDir: csawBook.book Warnings: 0