Package: csawBook Version: 1.16.0 Command: /home/biocbuild/bbs-3.21-bioc/R/bin/R CMD build --keep-empty-dirs --no-resave-data csawBook StartedAt: 2025-10-13 10:17:09 -0400 (Mon, 13 Oct 2025) EndedAt: 2025-10-13 11:43:59 -0400 (Mon, 13 Oct 2025) EllapsedTime: 5210.7 seconds RetCode: 0 Status: OK PackageFile: csawBook_1.16.0.tar.gz PackageFileSize: 2.868 MiB